BEGIN:VCALENDAR
VERSION:2.0
PRODID:-//Asociaci&oacute;ns MAIV - ECPv6.15.13.1//NONSGML v1.0//EN
CALSCALE:GREGORIAN
METHOD:PUBLISH
X-ORIGINAL-URL:https://asociacionsmaiv.org
X-WR-CALDESC:Eventos para Asociaci&oacute;ns MAIV
REFRESH-INTERVAL;VALUE=DURATION:PT1H
X-Robots-Tag:noindex
X-PUBLISHED-TTL:PT1H
BEGIN:VTIMEZONE
TZID:UTC
BEGIN:STANDARD
TZOFFSETFROM:+0000
TZOFFSETTO:+0000
TZNAME:UTC
DTSTART:20230101T000000
END:STANDARD
END:VTIMEZONE
BEGIN:VEVENT
DTSTART;VALUE=DATE:20240415
DTEND;VALUE=DATE:20240416
DTSTAMP:20260423T005210
CREATED:20240418T074748Z
LAST-MODIFIED:20241122T120230Z
UID:7116-1713139200-1713225599@asociacionsmaiv.org
SUMMARY:PROGRAMA +CONVIVENCIA
DESCRIPTION:O programa “+Convivencia” configúrase como un instrumento encamiñado ao fomento da participación\, da convivencia e a cohesión social dos distintos colectivos sociais da provincia de Pontevedra\, ofrecéndolle alternativas de ocio e tempo de lecer á poboación\, impulsando a convivencia e o intercambio de experiencias\, ao tempo que se garante a igualdade de oportunidades de colectivos con discapacidade. Paralelamente favorecerá a dinamización do tecido empresarial local en canto á contratación de pequenas e medianas empresas de autocares\, restauración\, axencias de viaxes etc. da contorna. \n  \nPara máis información clica nesta ligazón
URL:https://asociacionsmaiv.org/event/programa-convivencia/
CATEGORIES:SUBVENCIÓNS E AXUDAS
END:VEVENT
BEGIN:VEVENT
DTSTART;TZID=UTC:20240808T000000
DTEND;TZID=UTC:20240930T000000
DTSTAMP:20260423T005210
CREATED:20240820T104925Z
LAST-MODIFIED:20240820T110407Z
UID:8957-1723075200-1727654400@asociacionsmaiv.org
SUMMARY:AXUDAS ÁS ESCOLAS DE MÚSICA DEPENDENTES DE ASOCIACIÓNS SEN FINS DE LUCRO 2024
DESCRIPTION:Se eres unha escola de música dependente dunha asociación sen ánimo de lucro\, xa tes aquí información interesante das axudas que podes solicitar. \nPara máis información clica na seguinte ligazón.
URL:https://asociacionsmaiv.org/event/axudas-as-escolas-de-musica-dependentes-de-asociacions-sen-fins-de-lucro-2024/
CATEGORIES:SUBVENCIÓNS E AXUDAS
ATTACH;FMTTYPE=image/jpeg:https://asociacionsmaiv.org/wp-content/uploads/2024/08/AXUDAS-AS-ESCOLAS-DE-MUSICA-DEPENDENTES-DE-ASOCIACIONS-SEN-FINS-DE-LUCRO-2024-1.jpg
END:VEVENT
BEGIN:VEVENT
DTSTART;TZID=UTC:20240824T080000
DTEND;TZID=UTC:20240930T170000
DTSTAMP:20260423T005210
CREATED:20240826T033254Z
LAST-MODIFIED:20240826T033254Z
UID:8951-1724486400-1727715600@asociacionsmaiv.org
SUMMARY:IV PREMIO SESÉ MATEO DE XORNALISMO ÉTICO NO TRATAMENTO DA VIOLENCIA MACHISTA
DESCRIPTION: O Concello de Redondela outorga o IV Premio Sesé Mateo de Xornalismo que pretende premiar a aqueles ou aquelas profesionais do xornalismo que\, ademais de informar\, o saiban facer con ética\, fuxindo do sensacionalismo e tendo coidado coa intimidade das vítimas e das persoas superviventes máis vulnerables. Tamén daquelas persoas que\, con valentía\, atendan a esta secuela do patriarcado e do machismo como se merece: sinalando a súa profunda raíz e alentando a toda a sociedade a arrincala de vez. \nPara máis información clica na seguinte ligazón.
URL:https://asociacionsmaiv.org/event/iv-premio-sese-mateo-de-xornalismo-etico-no-tratamento-da-violencia-machista/
CATEGORIES:SUBVENCIÓNS E AXUDAS
ATTACH;FMTTYPE=image/jpeg:https://asociacionsmaiv.org/wp-content/uploads/2024/08/PREMIO-SESE.jpg
END:VEVENT
BEGIN:VEVENT
DTSTART;VALUE=DATE:20240902
DTEND;VALUE=DATE:20240903
DTSTAMP:20260423T005210
CREATED:20240902T101256Z
LAST-MODIFIED:20241122T120334Z
UID:9172-1725235200-1725321599@asociacionsmaiv.org
SUMMARY:O TEATRO AFUNDACIÓN OFRECERÁ A 35 PROPOSTAS CULTURAIS ATA FINAL DE ANO
DESCRIPTION:A Asociación Amigos da Ópera de Vigo bota organiza maravillosos espectáculos ata finais deste ano en Vigo. \nPara máis información acerca deste evento\, clica na seguinte ligazón.
URL:https://asociacionsmaiv.org/event/o-teatro-afundacion-ofrecera-a-35-propostas-culturais-ata-final-de-ano/
CATEGORIES:ACTIVIDADES
ATTACH;FMTTYPE=image/jpeg:https://asociacionsmaiv.org/wp-content/uploads/2024/09/Amigos-da-Opera-de-Vigo.jpg
END:VEVENT
BEGIN:VEVENT
DTSTART;TZID=UTC:20240908T120000
DTEND;TZID=UTC:20241110T000000
DTSTAMP:20260423T005210
CREATED:20240911T071822Z
LAST-MODIFIED:20240911T071822Z
UID:9255-1725796800-1731196800@asociacionsmaiv.org
SUMMARY:CONCERTOS OUTONO\, VIGO “UN MAR DE BANDAS” 
DESCRIPTION:Como cada ano\, o programa do Concello «Vigo\, un Mar de Bandas» xunto coa Federación de Bandas Música Populares de Vigo inundará de música varias zonas da cidade. Se eres un apaixoado da boa música animate a vir! \nPara máis información clica nesta ligazón.
URL:https://asociacionsmaiv.org/event/concertos-outono-vigo-un-mar-de-bandas/
CATEGORIES:ACTIVIDADES
ATTACH;FMTTYPE=image/jpeg:https://asociacionsmaiv.org/wp-content/uploads/2024/09/CONCERTOS-OUTONO-VIGO-UN-MAR-DE-BANDAS-1.jpg
END:VEVENT
BEGIN:VEVENT
DTSTART;TZID=UTC:20240912T080000
DTEND;TZID=UTC:20241009T170000
DTSTAMP:20260423T005210
CREATED:20240902T060253Z
LAST-MODIFIED:20240902T102654Z
UID:9129-1726128000-1728493200@asociacionsmaiv.org
SUMMARY:OBRADOIRO DE AUTOESTIMA E COMUNICACIÓN ASERTIVA
DESCRIPTION:A Organización dirixida a promocionar e visibilizar a situación da muller empresaria en Galicia ten unha sorpresa preparada a partir do día 12 de setembro. Non a perdas. \nPara máis información clica na seguinte ligazón.
URL:https://asociacionsmaiv.org/event/obradoiro-de-autoestima-e-comunicacion-asertiva/
CATEGORIES:ACTIVIDADES
ATTACH;FMTTYPE=image/jpeg:https://asociacionsmaiv.org/wp-content/uploads/2024/08/OBRADOIRO-DE-AUTOESTIMA-E-COMUNICACION-ASERTIVA.jpg
END:VEVENT
BEGIN:VEVENT
DTSTART;TZID=UTC:20240918T090000
DTEND;TZID=UTC:20241017T000000
DTSTAMP:20260423T005210
CREATED:20240918T095009Z
LAST-MODIFIED:20240918T101043Z
UID:9540-1726650000-1729123200@asociacionsmaiv.org
SUMMARY:PROGRAMAS DE INTERESE XERAL PARA FINS DE CARÁCTER SOCIAL DIRIXIDOS Á XUVENTUDE E AO VOLUNTARIADO
DESCRIPTION:Se eres unha entidade de acción social e entre os teus programas están os dirixidos á xuventude e ao voluntariado\, isto interésache! \nPara máis información clica na seguinte ligazón.
URL:https://asociacionsmaiv.org/event/9540/
CATEGORIES:SUBVENCIÓNS E AXUDAS
ATTACH;FMTTYPE=image/jpeg:https://asociacionsmaiv.org/wp-content/uploads/2024/09/PROGRAMAS-DE-INTERESE-XERAL-PARA-FINS-DE-CARACTER-SOCIAL-DIRIXIDOS-A-XUVENTUDE-E-AO-VOLUNTARIADO-DEFINITIVO-1.jpg
END:VEVENT
BEGIN:VEVENT
DTSTART;TZID=UTC:20240920T090000
DTEND;TZID=UTC:20241021T000000
DTSTAMP:20260423T005210
CREATED:20240919T104803Z
LAST-MODIFIED:20240919T104803Z
UID:9573-1726822800-1729468800@asociacionsmaiv.org
SUMMARY:CUARTA EDICIÓN DOS PREMIOS #MULLERES NO FOCO
DESCRIPTION:A Deputación de Pontevedra en colaboración coa Asociación de Mulleres Cineastas e de Medios Audiovisuais (CIMA) ten como obxectivo poñer en valor o traballo da muller no audiovisual galego co fin de mudar as cifras de infrarrepresentación actuais das profesionais do sector. Por iso\, un ano máis\, convoca unha nova edición dos Premios #Mulleres no Foco de apoio ás mulleres do sector audiovisual\, dado que\, aínda a día de hoxe\, as mulleres seguen precisando apoio e visibilidade na maior parte das profesións vinculadas a este sector\, feito que se acentúa nos postos relacionados coa toma de decisións e nos de maior prestixio social. Informate canto antes! \nSe queres saber máis non dubides en clicar nesta ligazón.
URL:https://asociacionsmaiv.org/event/cuarta-edicion-dos-premios-mulleres-no-foco/
CATEGORIES:ACTIVIDADES
ATTACH;FMTTYPE=image/jpeg:https://asociacionsmaiv.org/wp-content/uploads/2024/09/CUARTA-EDICION-DOS-PREMIOS-MULLERES-NO-FOCO.jpg
END:VEVENT
BEGIN:VEVENT
DTSTART;TZID=UTC:20240923T090000
DTEND;TZID=UTC:20241011T000000
DTSTAMP:20260423T005210
CREATED:20240920T080619Z
LAST-MODIFIED:20240920T080619Z
UID:9594-1727082000-1728604800@asociacionsmaiv.org
SUMMARY:SUBVENCIÓNS PARA A ORGANIZACIÓN DE EVENTOS DEPORTIVOS CON FINES DE INTERESE TURÍSTICO NO ANO 2024
DESCRIPTION:Se eres unha entidade deportiva sen ánimo de lucro e desenvolves eventos deportivos con interese turístico no ámbito local co obxectivo de fomentar e promocionar o turismo\, non te quedes sen estas axudas! \n  \nPara máis información podes clicar nesta ligazón.
URL:https://asociacionsmaiv.org/event/subvencions-para-a-organizacion-de-eventos-deportivos-con-fines-de-interese-turistico-no-ano-2024/
CATEGORIES:ACTIVIDADES
ATTACH;FMTTYPE=image/jpeg:https://asociacionsmaiv.org/wp-content/uploads/2024/09/SUBVENCIONS-PARA-A-ORGANIZACION-DE-EVENTOS-DEPORTIVOS-CON-FINES-DE-INTERESE-TURISTICO-NO-ANO-2024-8.jpg
END:VEVENT
BEGIN:VEVENT
DTSTART;TZID=UTC:20240927T090000
DTEND;TZID=UTC:20241006T000000
DTSTAMP:20260423T005210
CREATED:20240926T083343Z
LAST-MODIFIED:20240926T083941Z
UID:9732-1727427600-1728172800@asociacionsmaiv.org
SUMMARY:SUBVENCIÓNS PARA ACTIVIDADES DE PROMOCIÓN DA MULLER E A IGUALDADE
DESCRIPTION:Se eres unha entidade sen ánimo de lucro que desenvolve actividades e programas de promoción da muller e da igualdade\, isto interésache! \nPara máis información clica na seguinte ligazón.  \n  \n 
URL:https://asociacionsmaiv.org/event/subvencions-para-actividades-de-promocion-da-muller-e-a-igualdade/
CATEGORIES:SUBVENCIÓNS E AXUDAS
ATTACH;FMTTYPE=image/jpeg:https://asociacionsmaiv.org/wp-content/uploads/2024/09/SUBVENCIONS-PARA-ACTIVIFDADES-PROMOCION-MULLER-1.jpg
END:VEVENT
BEGIN:VEVENT
DTSTART;TZID=UTC:20240927T090000
DTEND;TZID=UTC:20241017T000000
DTSTAMP:20260423T005210
CREATED:20240926T082451Z
LAST-MODIFIED:20240926T083634Z
UID:9728-1727427600-1729123200@asociacionsmaiv.org
SUMMARY:SUBVENCIÓNS PARA O DESENVOLVEMENTO DE FESTAS TRADICIONAIS\, PATRONAIS\, COPATRONAIS\, GASTRONÓMICAS\, FESTIVAIS FOLCLÓRICOS E ACTIVIDADES SOCIOCULTURAIS (PERÍODO 2023 - 2024)
DESCRIPTION:O Servizo de Festas Especiais da Concellería da Área de Parques e Xardíns\, Comercio e Festas Especiais do Concello de Vigo desenvolve programas de festas tradicionais\, patronais\, gastronómicas e actividades socioculturais durante o período comprendido entre o 1 de novembro do ano 2023 ata o 31 de outubro do ano 2024\, na cidade de Vigo. Se te dedicas ó mundo das festas\,xa tes aquí as subvencións do teu interese! \nPara máis información clica na seguinte ligazón.
URL:https://asociacionsmaiv.org/event/subvencions-para-o-desenvolvemento-de-festas-tradicionais-patronais-copatronais-gastronomicas-festivais-folcloricos-e-actividades-socioculturais-periodo-2023-2024/
CATEGORIES:SUBVENCIÓNS E AXUDAS
ATTACH;FMTTYPE=image/jpeg:https://asociacionsmaiv.org/wp-content/uploads/2024/09/sSUBVNECIONS-PARA-O-DESENVOLVEMENTO-DE-FESTAS-TRADICIONAIS-1.jpg
END:VEVENT
BEGIN:VEVENT
DTSTART;TZID=UTC:20240927T090000
DTEND;TZID=UTC:20241028T000000
DTSTAMP:20260423T005210
CREATED:20241001T031957Z
LAST-MODIFIED:20241001T031957Z
UID:9800-1727427600-1730073600@asociacionsmaiv.org
SUMMARY:SUBVENCIÓNS PARA A REALIZACIÓN DE ACTIVIDADES NO ÁMBITO DE PREVENCIÓN DE RISCOS LABORAIS
DESCRIPTION:Se a túa entidade é unha asociación empresarial\, unha organización sindical\, unha fundación sectorial ou unha asociación profesional de persoas traballadoras autónomas e entre os seus ámbitos de actuacións está a prevención de riscos laborais xa tes aquí as subvencións que te poden interesar. Non o penses e infórmate! \n  \nSe queres saber máis acerca desta subvención clica nesta ligazón.
URL:https://asociacionsmaiv.org/event/subvencions-para-a-realizacion-de-actividades-no-ambito-de-prevencion-de-riscos-laborais/
CATEGORIES:SUBVENCIÓNS E AXUDAS
ATTACH;FMTTYPE=image/jpeg:https://asociacionsmaiv.org/wp-content/uploads/2024/09/prevencion-de-riscos-laborais.jpg
END:VEVENT
BEGIN:VEVENT
DTSTART;VALUE=DATE:20240928
DTEND;VALUE=DATE:20240929
DTSTAMP:20260423T005210
CREATED:20240924T104942Z
LAST-MODIFIED:20240924T104942Z
UID:9246-1727481600-1727567999@asociacionsmaiv.org
SUMMARY:XVI RALLY CIDADE DE VIGO
DESCRIPTION:A Organización sen Ánimo de Lucro Escudería de Vehículos Clásicos ten programado este sábado vindeiro día 28 de setembro no Centro Comercial Gran Vía de Vigo unha exposición de vehículos clásicos. \n  \nPara máis información clica na seguinte ligazón. \n 
URL:https://asociacionsmaiv.org/event/xvi-rally-cidade-de-vigo/
CATEGORIES:ACTIVIDADES
ATTACH;FMTTYPE=image/jpeg:https://asociacionsmaiv.org/wp-content/uploads/2024/09/XVI-RALLY-CIDADE-DE-VIGO-1.jpg
END:VEVENT
BEGIN:VEVENT
DTSTART;TZID=UTC:20240928T110000
DTEND;TZID=UTC:20240928T140000
DTSTAMP:20260423T005210
CREATED:20240920T103439Z
LAST-MODIFIED:20240920T104228Z
UID:9619-1727521200-1727532000@asociacionsmaiv.org
SUMMARY:30 Aniversario ASEM Galicia
DESCRIPTION: ASEM Galicia é a Asociación Galega contra as Enfermidades Neuromusculares\, unha entidade sen ánimo de lucro\, con 30 anos de historia\, que foi declarada de Utilidade Pública. O próximo día 28 de setembro ás 11 horas en Santiago de compostela tes unha cita. \nPara máis información clica nesta seguinte ligazón.
URL:https://asociacionsmaiv.org/event/9619/
CATEGORIES:ACTIVIDADES
ATTACH;FMTTYPE=image/png:https://asociacionsmaiv.org/wp-content/uploads/2024/09/BFWOaKCMt6gi-Tablon-anuncios-1-1.png
END:VEVENT
BEGIN:VEVENT
DTSTART;TZID=UTC:20241115T080000
DTEND;TZID=UTC:20241115T170000
DTSTAMP:20260423T005210
CREATED:20241115T091951Z
LAST-MODIFIED:20241115T091951Z
UID:9841-1731657600-1731690000@asociacionsmaiv.org
SUMMARY:Presentación do libro “Os anos tranquilos” 25N VIGO/2024
DESCRIPTION:Presentación do libro “Os anos tranquilos” (Xerais\, 2024)\npola conta da autora Llerena Perozo Porteiro\nLugar: Centro de Documentación e Recursos Feministas\nBiblioteca Pública de Vigo “Juan Compañel” (Rúa Joaquín Yáñez\, 6-2º andar)
URL:https://asociacionsmaiv.org/event/presentacion-do-libro-os-anos-tranquilos-25n-vigo-2024/
CATEGORIES:ACTIVIDADES
ATTACH;FMTTYPE=image/jpeg:https://asociacionsmaiv.org/wp-content/uploads/2024/11/CARTEL-25N-vigo-scaled.jpg
END:VEVENT
BEGIN:VEVENT
DTSTART;TZID=UTC:20241115T190000
DTEND;TZID=UTC:20241115T220000
DTSTAMP:20260423T005210
CREATED:20241115T090222Z
LAST-MODIFIED:20241115T090222Z
UID:9824-1731697200-1731708000@asociacionsmaiv.org
SUMMARY:Concerto GUADI GALEGO 25N VIGO/2024
DESCRIPTION:Lugar: Teatro Salesianos\, Rua Venezuela 3. \nEntrada libre ata completar a capacidade do local \n 
URL:https://asociacionsmaiv.org/event/concerto-guadi-galego-25n-vigo-2024/
LOCATION:Teatro Salesianos
ATTACH;FMTTYPE=image/jpeg:https://asociacionsmaiv.org/wp-content/uploads/2024/11/CARTEL-25N-vigo-scaled.jpg
END:VEVENT
BEGIN:VEVENT
DTSTART;VALUE=DATE:20241118
DTEND;VALUE=DATE:20241119
DTSTAMP:20260423T005210
CREATED:20241115T090931Z
LAST-MODIFIED:20241115T090931Z
UID:9833-1731888000-1731974399@asociacionsmaiv.org
SUMMARY:Exposición contra a violencia de xénero 25N VIGO/2024
DESCRIPTION:Exposición contra a violencia de xénero #AMIGODÁTECONTA \nCoa colaboración da Delegación do Goberno en Galicia  \nLugar: Plaza do Rei
URL:https://asociacionsmaiv.org/event/exposicion-contra-a-violencia-de-xenero-25n-vigo-2024/
LOCATION:Plaza do Rei
ATTACH;FMTTYPE=image/jpeg:https://asociacionsmaiv.org/wp-content/uploads/2024/11/CARTEL-25N-vigo-scaled.jpg
END:VEVENT
BEGIN:VEVENT
DTSTART;TZID=UTC:20241120T190000
DTEND;TZID=UTC:20241120T220000
DTSTAMP:20260423T005210
CREATED:20241115T093818Z
LAST-MODIFIED:20241115T093818Z
UID:9838-1732129200-1732140000@asociacionsmaiv.org
SUMMARY:Presentación do libro “Os anos tranquilos” 25N VIGO/2024
DESCRIPTION:Presentación do libro “Os anos tranquilos” (Xerais\, 2024)\npola conta da autora Llerena Perozo Porteiro\nLugar: Centro de Documentación e Recursos Feministas\n Biblioteca Pública de Vigo “Juan Compañel” (Rúa Joaquín Yáñez\, 6-2º andar)
URL:https://asociacionsmaiv.org/event/presentacion-do-libro-os-anos-tranquilos-25n-vigo-2024-2/
LOCATION:Vigo
ATTACH;FMTTYPE=image/jpeg:https://asociacionsmaiv.org/wp-content/uploads/2024/11/CARTEL-25N-vigo-scaled.jpg
END:VEVENT
BEGIN:VEVENT
DTSTART;TZID=UTC:20241121T190000
DTEND;TZID=UTC:20241121T220000
DTSTAMP:20260423T005210
CREATED:20241115T093245Z
LAST-MODIFIED:20241115T093245Z
UID:9843-1732215600-1732226400@asociacionsmaiv.org
SUMMARY:Actuacións musicais SILA LUA e CATUXA SALOM 25N VIGO/2024
DESCRIPTION:Lugar: Auditorio Municipal. Praza do Rei\, 1\nEntrada libre ata completar a capacidade do local
URL:https://asociacionsmaiv.org/event/actuacions-musicais-sila-lua-e-catuxa-salom-25n-vigo-2024/
LOCATION:Plaza do Rei
ATTACH;FMTTYPE=image/jpeg:https://asociacionsmaiv.org/wp-content/uploads/2024/11/CARTEL-25N-vigo-scaled.jpg
END:VEVENT
BEGIN:VEVENT
DTSTART;TZID=UTC:20241122T200000
DTEND;TZID=UTC:20241122T220000
DTSTAMP:20260423T005210
CREATED:20241115T093611Z
LAST-MODIFIED:20241115T094553Z
UID:9845-1732305600-1732312800@asociacionsmaiv.org
SUMMARY:Espectáculo: “Feminíssimas” 25N VIGO/2024
DESCRIPTION:Espectáculo: “Feminíssimas”\nVigoCultura\nLugar: Auditorio Municipal. Praza do Rei\, 1\nPrezo 5 €. Venda anticipada de entradas
URL:https://asociacionsmaiv.org/event/espectaculo-feminissimas-25n-vigo-2024/
LOCATION:Plaza do Rei
CATEGORIES:ACTIVIDADES
ATTACH;FMTTYPE=image/jpeg:https://asociacionsmaiv.org/wp-content/uploads/2024/11/CARTEL-25N-vigo-scaled.jpg
END:VEVENT
BEGIN:VEVENT
DTSTART;TZID=UTC:20241123T190000
DTEND;TZID=UTC:20241123T220000
DTSTAMP:20260423T005210
CREATED:20241118T115823Z
LAST-MODIFIED:20241118T115823Z
UID:9857-1732388400-1732399200@asociacionsmaiv.org
SUMMARY:CONCERTO DE SANTA ICÍA
DESCRIPTION:Dias da actividade: Sábado 23 de novembro\nHorarios: 19:00 h\nDestinatarios/as: Todas as idades – e máis anos\nPúblico dirixido: Público Xeral\nPrazas: Ata completar aforo\nAcceso: De balde\nLugar da actividade: Multiúsos\, Arcade \n 
URL:https://asociacionsmaiv.org/event/concerto-de-santa-icia/
ATTACH;FMTTYPE=image/jpeg:https://asociacionsmaiv.org/wp-content/uploads/2024/11/orig_santa-icia-2024-cartel.jpg
END:VEVENT
BEGIN:VEVENT
DTSTART;VALUE=DATE:20241125
DTEND;VALUE=DATE:20241126
DTSTAMP:20260423T005210
CREATED:20241122T120730Z
LAST-MODIFIED:20241122T122212Z
UID:9891-1732492800-1732579199@asociacionsmaiv.org
SUMMARY:25N MOS
DESCRIPTION:Mos presenta unha programación do 25N que pretende ‘crucificar’ a violencia machista en todas as súas manifestacións\nO deseño do cartel deste ano inspírase nesa idea\, sobre a que tamén versará o acto central conmemorativo que terá lugar o luns 25 de novembro ás 17:30h na rotonda das Angustias\, en Sanguiñeda\n\n\n\n25N:\n– homenaxe ás 40 vítimas de violencia que perderon a vida a man das súas parellas ou ex parellas e ás 11 crianzas vítimas da violencia vicaria\, que terá lugar ás 17:30h na rotonda das Angustias\, parroquia de Sanguiñeda.\n\n\n– ás 19:00h\, no Pazo de Mos\, levarase a cabo o Pleno Ordinario mensual\, no que se realizará un manifesto de repulsa e acompañamento a dor das familias.\n\n\nCHARLAS E OBRADOIROS PARA O ALUMNADO:\nEstes días\, ademais\, lévanse a cabo charlas e obradoiros para o alumnado e as familias dos centros educativos:\n\n\n– unha charla para as familias da ANPA do Ceip Pena de Francia da man da Fiscal Paula Blasco e a avogada do CIM Ana Rodríguez Cabaleiro hoxe mesmo e o 26 de novembro para a ANPA do Ceip Atín-Cela;\n\n\n– para o alumnado do IES o vindeiro día 22 realizarase unha actividade do programa Xénero Educa\, do Grupo Koremi\, dirixida a alumnado de 1º da ESO co obxectivo de proporcionar ao alumnado ferramentas para recoñecer e identificar as primeiras violencias machistas\,\n\n\n– e unha formación para 4º da ESO sobre violencia sexual\, concedida pola Dirección Xeral de Loita contra á Violencia de Xénero.\n\n\n#somosMos #crucificaMOSaviolenciamachista somos #igualdade somos #25N !
URL:https://asociacionsmaiv.org/event/25n-mos/
ATTACH;FMTTYPE=image/jpeg:https://asociacionsmaiv.org/wp-content/uploads/2024/11/CARTEL-25N-MOS.jpg
END:VEVENT
BEGIN:VEVENT
DTSTART;VALUE=DATE:20241125
DTEND;VALUE=DATE:20241126
DTSTAMP:20260423T005210
CREATED:20241122T115838Z
LAST-MODIFIED:20241122T120647Z
UID:9882-1732492800-1732579199@asociacionsmaiv.org
SUMMARY:12:00h 25N SALCEDA DE CASELAS
DESCRIPTION:25N \nPraza do Concello: \n\n12:00h minuto de silencio\nLectura manifesto por parte do alumnado CEP Altamira \n\nCentro de enfermidades neurodexenerativas AFAGA \n\nActividade Interxeracional polo 25N coa participación do alumnado do CRA Raíña Aragonta e usuarios/as do programa cultiva a mente.
URL:https://asociacionsmaiv.org/event/25n-salceda-de-caselas/
ATTACH;FMTTYPE=image/jpeg:https://asociacionsmaiv.org/wp-content/uploads/2024/11/468019235_880346750934199_6728357833851162028_n-2.jpg
END:VEVENT
BEGIN:VEVENT
DTSTART;TZID=UTC:20241125T103000
DTEND;TZID=UTC:20241125T123000
DTSTAMP:20260423T005210
CREATED:20241115T095452Z
LAST-MODIFIED:20241115T095452Z
UID:9848-1732530600-1732537800@asociacionsmaiv.org
SUMMARY:ENLAZAVIGO CONTRA A VIOLENCIA DE XÉNERO 25N VIGO/2024
DESCRIPTION:Alumnado de secundaria\, bacharelato e ciclos formativos de FP\nDe 10:30 a 12:30 h \nLugar: Auditorio Pazo de Congresos Mar de Vigo  \nEntrada con invitación previa
URL:https://asociacionsmaiv.org/event/enlazavigo-contra-a-violencia-de-xenero-25n-vigo-2024/
LOCATION:Auditorio Pazo de Congresos Mar de Vigo\, Av. da Beiramar\, 59\, 36202 Vigo\, Pontevedra\, Vigo
CATEGORIES:ACTIVIDADES
ATTACH;FMTTYPE=image/jpeg:https://asociacionsmaiv.org/wp-content/uploads/2024/11/CARTEL-25N-vigo-scaled.jpg
END:VEVENT
BEGIN:VEVENT
DTSTART;TZID=UTC:20241125T123000
DTEND;TZID=UTC:20241125T130000
DTSTAMP:20260423T005210
CREATED:20241118T120825Z
LAST-MODIFIED:20241118T120825Z
UID:9863-1732537800-1732539600@asociacionsmaiv.org
SUMMARY:25N SOUTOMAIOR
DESCRIPTION:DESCRICIÓN \nUnha campaña centrada\, neste 2024\, na violencia machista na terceira idade. \nPRESENTACIÓN DA CAMPAñA MUNICIPAL NAS ASOCIACIÓNS CON VOGALÍA DE MULLER DO CONCELLO\nAlxán\, Pozovello\, Anduriña\, Centro da Tercera Idade\, Romariz\, Oito de Decembro e Moreira. \nDOMINGO 24 DE NOVEMBRO\n12:30 horas Concentración en repulsa ás violencias machistas.\nLECTURA DO MANIFESTO INSTITUCIONAL do Concello de Soutomaior. \n13:00 horas Concerto-performance.\nA cargo de ESPERANZA MARA \n*Importante: Os actos do 24 de novembro desenvolveranse na Alameda de Talo Río\, no caso de que o tempo non acompañe estes actos terán lugar no Multiúsos de Arcade.\nInformaremos do lugar definitivo a través das redes nos días previos a esta xornada.
URL:https://asociacionsmaiv.org/event/25n-soutomaior/
ATTACH;FMTTYPE=image/jpeg:https://asociacionsmaiv.org/wp-content/uploads/2024/11/orig_25n.jpeg
END:VEVENT
BEGIN:VEVENT
DTSTART;TZID=UTC:20241125T200000
DTEND;TZID=UTC:20241125T230000
DTSTAMP:20260423T005210
CREATED:20241115T100747Z
LAST-MODIFIED:20241115T100747Z
UID:9851-1732564800-1732575600@asociacionsmaiv.org
SUMMARY:MANIFESTACIÓN 25N VIGO/2024
DESCRIPTION:Convoca: Rede de Mulleres contra os Malos Tratos \nPunto de encontro: Cruzamento Via Norte con Urzaíz 
URL:https://asociacionsmaiv.org/event/manifestacion-25n-vigo-2024/
CATEGORIES:ACTIVIDADES
ATTACH;FMTTYPE=image/jpeg:https://asociacionsmaiv.org/wp-content/uploads/2024/11/CARTEL-25N-vigo-scaled.jpg
END:VEVENT
BEGIN:VEVENT
DTSTART;TZID=UTC:20241129T180000
DTEND;TZID=UTC:20241129T193000
DTSTAMP:20260423T005210
CREATED:20241118T120234Z
LAST-MODIFIED:20241118T120234Z
UID:9860-1732903200-1732908600@asociacionsmaiv.org
SUMMARY:A HORA DO CONTO
DESCRIPTION:Inicio da actividade: 29-11-2024\nFin da actividade: 29-11-2024\nDias da actividade: Venres 29 de novembro\nHorarios: 18:00 a 19:30 h\nDestinatarios/as: 4 – 12 anos\nMenores: Menores con autorización\nPúblico dirixido: Público Infantil\nPrazas: 25 prazas\nAcceso: De balde\nLugar da actividade: Biblioteca Municipal Luis Seoane\nInscricións: ata o Xoves 28 de novembro ás: 17:00 h
URL:https://asociacionsmaiv.org/event/a-hora-do-conto/
ATTACH;FMTTYPE=image/jpeg:https://asociacionsmaiv.org/wp-content/uploads/2024/11/orig_a_hora_do_conto_2.jpeg
END:VEVENT
BEGIN:VEVENT
DTSTART;TZID=UTC:20241130T170000
DTEND;TZID=UTC:20241130T220000
DTSTAMP:20260423T005210
CREATED:20241128T060202Z
LAST-MODIFIED:20241219T072631Z
UID:9898-1732986000-1733004000@asociacionsmaiv.org
SUMMARY:Gondomar / Acendido das luces de Nadal
DESCRIPTION:Este sábado 30 de novembro achégate a Gondomar \n17:00h. Contacontos interacivos «Nadal en prácticas» \n18.00h. Magosto popular. \n20.00h. Acendido das luces de Nadal
URL:https://asociacionsmaiv.org/event/acendido-das-luces-de-nadal-gondomar/
LOCATION:Gondomar
CATEGORIES:ACTIVIDADES
ATTACH;FMTTYPE=image/jpeg:https://asociacionsmaiv.org/wp-content/uploads/2024/11/Acendido-luces-30novembro-724x1024-1.jpg
END:VEVENT
BEGIN:VEVENT
DTSTART;TZID=UTC:20241201T190000
DTEND;TZID=UTC:20241201T210000
DTSTAMP:20260423T005210
CREATED:20241128T061001Z
LAST-MODIFIED:20241219T072616Z
UID:9907-1733079600-1733086800@asociacionsmaiv.org
SUMMARY:Gondomar / Teatro ARROUTADA
DESCRIPTION:“Arroutada”\, obra da agrupación teatral da ONCE Setestrelo  baixo a a dirección de Mónica Sueiro\, chega a Gondomar este domingo 1 de decembro ás 19:00 h. no Auditorio Lois Tobío. \nPeza que reflexiona sobre o que pode levar a cometer un crime e a actitude da sociedade. \nEntrada libre ata completar aforo
URL:https://asociacionsmaiv.org/event/teatro-arroutada-gondomar/
LOCATION:Auditorio Lois Tobío
CATEGORIES:ACTIVIDADES
ATTACH;FMTTYPE=image/jpeg:https://asociacionsmaiv.org/wp-content/uploads/2024/11/teatro-ARROUTADA-724x1024-1.jpg
END:VEVENT
BEGIN:VEVENT
DTSTART;VALUE=DATE:20241213
DTEND;VALUE=DATE:20241216
DTSTAMP:20260423T005210
CREATED:20241118T121509Z
LAST-MODIFIED:20241212T084406Z
UID:9866-1734048000-1734307199@asociacionsmaiv.org
SUMMARY:MERCADO DE NADAL - SALCEDA DE CASELAS
DESCRIPTION:13-14-15 DE DECEMBRO \nDía límite da inscrición: 22 de Novembro \nAquelas persoas comerciantes\, artesás e asociacións que estean interesadas deben poñerse en contacto co Concello a través de benestar@salcedadecaselas.gal
URL:https://asociacionsmaiv.org/event/mercado-de-nadal-salceda-de-caselas/
CATEGORIES:ACTIVIDADES
ATTACH;FMTTYPE=image/jpeg:https://asociacionsmaiv.org/wp-content/uploads/2024/11/467398684_877734934528714_152461818866032215_n.jpg
END:VEVENT
END:VCALENDAR