BEGIN:VCALENDAR
VERSION:2.0
PRODID:-//Asociaci&oacute;ns MAIV - ECPv6.15.13.1//NONSGML v1.0//EN
CALSCALE:GREGORIAN
METHOD:PUBLISH
X-ORIGINAL-URL:https://asociacionsmaiv.org
X-WR-CALDESC:Eventos para Asociaci&oacute;ns MAIV
REFRESH-INTERVAL;VALUE=DURATION:PT1H
X-Robots-Tag:noindex
X-PUBLISHED-TTL:PT1H
BEGIN:VTIMEZONE
TZID:UTC
BEGIN:STANDARD
TZOFFSETFROM:+0000
TZOFFSETTO:+0000
TZNAME:UTC
DTSTART:20230101T000000
END:STANDARD
END:VTIMEZONE
BEGIN:VEVENT
DTSTART;VALUE=DATE:20240415
DTEND;VALUE=DATE:20240416
DTSTAMP:20260423T122707
CREATED:20240418T074748Z
LAST-MODIFIED:20241122T120230Z
UID:7116-1713139200-1713225599@asociacionsmaiv.org
SUMMARY:PROGRAMA +CONVIVENCIA
DESCRIPTION:O programa “+Convivencia” configúrase como un instrumento encamiñado ao fomento da participación\, da convivencia e a cohesión social dos distintos colectivos sociais da provincia de Pontevedra\, ofrecéndolle alternativas de ocio e tempo de lecer á poboación\, impulsando a convivencia e o intercambio de experiencias\, ao tempo que se garante a igualdade de oportunidades de colectivos con discapacidade. Paralelamente favorecerá a dinamización do tecido empresarial local en canto á contratación de pequenas e medianas empresas de autocares\, restauración\, axencias de viaxes etc. da contorna. \n  \nPara máis información clica nesta ligazón
URL:https://asociacionsmaiv.org/event/programa-convivencia/
CATEGORIES:SUBVENCIÓNS E AXUDAS
END:VEVENT
BEGIN:VEVENT
DTSTART;TZID=UTC:20240808T000000
DTEND;TZID=UTC:20240930T000000
DTSTAMP:20260423T122707
CREATED:20240820T104925Z
LAST-MODIFIED:20240820T110407Z
UID:8957-1723075200-1727654400@asociacionsmaiv.org
SUMMARY:AXUDAS ÁS ESCOLAS DE MÚSICA DEPENDENTES DE ASOCIACIÓNS SEN FINS DE LUCRO 2024
DESCRIPTION:Se eres unha escola de música dependente dunha asociación sen ánimo de lucro\, xa tes aquí información interesante das axudas que podes solicitar. \nPara máis información clica na seguinte ligazón.
URL:https://asociacionsmaiv.org/event/axudas-as-escolas-de-musica-dependentes-de-asociacions-sen-fins-de-lucro-2024/
CATEGORIES:SUBVENCIÓNS E AXUDAS
ATTACH;FMTTYPE=image/jpeg:https://asociacionsmaiv.org/wp-content/uploads/2024/08/AXUDAS-AS-ESCOLAS-DE-MUSICA-DEPENDENTES-DE-ASOCIACIONS-SEN-FINS-DE-LUCRO-2024-1.jpg
END:VEVENT
BEGIN:VEVENT
DTSTART;TZID=UTC:20240821T080000
DTEND;TZID=UTC:20240920T000000
DTSTAMP:20260423T122707
CREATED:20240821T035132Z
LAST-MODIFIED:20240821T035132Z
UID:8977-1724227200-1726790400@asociacionsmaiv.org
SUMMARY:SUBVENCIÓNS DESTINADAS AO FOMENTO DA CONTRATACIÓN\, POR PARTE DE ENTIDADES SEN ÁNIMO DE LUCRO\, DE MULLERES QUE SOFREN VIOLENCIA DE XÉNERO
DESCRIPTION:Eres unha entidade sen ánimo de lucro que aposta por fomentar o emprego neste colectivo vulnerable? Entonces isto interésache! \nPara máis información clica na seguinte ligazón.
URL:https://asociacionsmaiv.org/event/subvencions-destinadas-ao-fomento-da-contratacion-por-parte-de-entidades-sen-animo-de-lucro-de-mulleres-que-sofren-violencia-de-xenero/
CATEGORIES:SUBVENCIÓNS E AXUDAS
ATTACH;FMTTYPE=image/jpeg:https://asociacionsmaiv.org/wp-content/uploads/2024/08/SUBVENCIONS-DESTINADAS-AO-FOMENTO-DA-CONTRATACION-POR-PARTE-DE-ENTIDADES-SEN-ANIMO-DE-LUCRO-DE-MULLERES-QUE-SOFREN-VIOLENCIA-DE-XENERO.jpg
END:VEVENT
BEGIN:VEVENT
DTSTART;TZID=UTC:20240824T080000
DTEND;TZID=UTC:20240930T170000
DTSTAMP:20260423T122707
CREATED:20240826T033254Z
LAST-MODIFIED:20240826T033254Z
UID:8951-1724486400-1727715600@asociacionsmaiv.org
SUMMARY:IV PREMIO SESÉ MATEO DE XORNALISMO ÉTICO NO TRATAMENTO DA VIOLENCIA MACHISTA
DESCRIPTION: O Concello de Redondela outorga o IV Premio Sesé Mateo de Xornalismo que pretende premiar a aqueles ou aquelas profesionais do xornalismo que\, ademais de informar\, o saiban facer con ética\, fuxindo do sensacionalismo e tendo coidado coa intimidade das vítimas e das persoas superviventes máis vulnerables. Tamén daquelas persoas que\, con valentía\, atendan a esta secuela do patriarcado e do machismo como se merece: sinalando a súa profunda raíz e alentando a toda a sociedade a arrincala de vez. \nPara máis información clica na seguinte ligazón.
URL:https://asociacionsmaiv.org/event/iv-premio-sese-mateo-de-xornalismo-etico-no-tratamento-da-violencia-machista/
CATEGORIES:SUBVENCIÓNS E AXUDAS
ATTACH;FMTTYPE=image/jpeg:https://asociacionsmaiv.org/wp-content/uploads/2024/08/PREMIO-SESE.jpg
END:VEVENT
BEGIN:VEVENT
DTSTART;VALUE=DATE:20240902
DTEND;VALUE=DATE:20240903
DTSTAMP:20260423T122707
CREATED:20240902T101256Z
LAST-MODIFIED:20241122T120334Z
UID:9172-1725235200-1725321599@asociacionsmaiv.org
SUMMARY:O TEATRO AFUNDACIÓN OFRECERÁ A 35 PROPOSTAS CULTURAIS ATA FINAL DE ANO
DESCRIPTION:A Asociación Amigos da Ópera de Vigo bota organiza maravillosos espectáculos ata finais deste ano en Vigo. \nPara máis información acerca deste evento\, clica na seguinte ligazón.
URL:https://asociacionsmaiv.org/event/o-teatro-afundacion-ofrecera-a-35-propostas-culturais-ata-final-de-ano/
CATEGORIES:ACTIVIDADES
ATTACH;FMTTYPE=image/jpeg:https://asociacionsmaiv.org/wp-content/uploads/2024/09/Amigos-da-Opera-de-Vigo.jpg
END:VEVENT
BEGIN:VEVENT
DTSTART;TZID=UTC:20240908T120000
DTEND;TZID=UTC:20241110T000000
DTSTAMP:20260423T122707
CREATED:20240911T071822Z
LAST-MODIFIED:20240911T071822Z
UID:9255-1725796800-1731196800@asociacionsmaiv.org
SUMMARY:CONCERTOS OUTONO\, VIGO “UN MAR DE BANDAS” 
DESCRIPTION:Como cada ano\, o programa do Concello «Vigo\, un Mar de Bandas» xunto coa Federación de Bandas Música Populares de Vigo inundará de música varias zonas da cidade. Se eres un apaixoado da boa música animate a vir! \nPara máis información clica nesta ligazón.
URL:https://asociacionsmaiv.org/event/concertos-outono-vigo-un-mar-de-bandas/
CATEGORIES:ACTIVIDADES
ATTACH;FMTTYPE=image/jpeg:https://asociacionsmaiv.org/wp-content/uploads/2024/09/CONCERTOS-OUTONO-VIGO-UN-MAR-DE-BANDAS-1.jpg
END:VEVENT
BEGIN:VEVENT
DTSTART;TZID=UTC:20240909T093000
DTEND;TZID=UTC:20240920T203000
DTSTAMP:20260423T122707
CREATED:20240902T103320Z
LAST-MODIFIED:20240902T104330Z
UID:9185-1725874200-1726864200@asociacionsmaiv.org
SUMMARY:O CENTRO SOCIAL DE BOUZAS E O TAI CHI
DESCRIPTION:O Centro Social de Bouzas organiza para este mes de setembro un programa de Tai Chi\, grazas á Ásociación Cultural Vila de Bouzas\, podes inscribirte xa a partir do día 2 de setembro. \nPara máis información clica na seguinte ligazón.
URL:https://asociacionsmaiv.org/event/o-centro-social-de-bouzas-e-o-tai-chi/
CATEGORIES:ACTIVIDADES
ATTACH;FMTTYPE=image/jpeg:https://asociacionsmaiv.org/wp-content/uploads/2024/09/O-Centro-Social-de-Bouzas-e-o-Tai-Chi-1.jpg
END:VEVENT
BEGIN:VEVENT
DTSTART;TZID=UTC:20240912T080000
DTEND;TZID=UTC:20241009T170000
DTSTAMP:20260423T122707
CREATED:20240902T060253Z
LAST-MODIFIED:20240902T102654Z
UID:9129-1726128000-1728493200@asociacionsmaiv.org
SUMMARY:OBRADOIRO DE AUTOESTIMA E COMUNICACIÓN ASERTIVA
DESCRIPTION:A Organización dirixida a promocionar e visibilizar a situación da muller empresaria en Galicia ten unha sorpresa preparada a partir do día 12 de setembro. Non a perdas. \nPara máis información clica na seguinte ligazón.
URL:https://asociacionsmaiv.org/event/obradoiro-de-autoestima-e-comunicacion-asertiva/
CATEGORIES:ACTIVIDADES
ATTACH;FMTTYPE=image/jpeg:https://asociacionsmaiv.org/wp-content/uploads/2024/08/OBRADOIRO-DE-AUTOESTIMA-E-COMUNICACION-ASERTIVA.jpg
END:VEVENT
BEGIN:VEVENT
DTSTART;TZID=UTC:20240918T090000
DTEND;TZID=UTC:20241017T000000
DTSTAMP:20260423T122707
CREATED:20240918T095009Z
LAST-MODIFIED:20240918T101043Z
UID:9540-1726650000-1729123200@asociacionsmaiv.org
SUMMARY:PROGRAMAS DE INTERESE XERAL PARA FINS DE CARÁCTER SOCIAL DIRIXIDOS Á XUVENTUDE E AO VOLUNTARIADO
DESCRIPTION:Se eres unha entidade de acción social e entre os teus programas están os dirixidos á xuventude e ao voluntariado\, isto interésache! \nPara máis información clica na seguinte ligazón.
URL:https://asociacionsmaiv.org/event/9540/
CATEGORIES:SUBVENCIÓNS E AXUDAS
ATTACH;FMTTYPE=image/jpeg:https://asociacionsmaiv.org/wp-content/uploads/2024/09/PROGRAMAS-DE-INTERESE-XERAL-PARA-FINS-DE-CARACTER-SOCIAL-DIRIXIDOS-A-XUVENTUDE-E-AO-VOLUNTARIADO-DEFINITIVO-1.jpg
END:VEVENT
END:VCALENDAR